BEGIN:VCALENDAR
VERSION:2.0
PRODID:-//مهارات الإجازة والإقراء - ECPv6.15.20//NONSGML v1.0//EN
CALSCALE:GREGORIAN
METHOD:PUBLISH
X-ORIGINAL-URL:https://ma-ij-iq.com
X-WR-CALDESC:Events for مهارات الإجازة والإقراء
REFRESH-INTERVAL;VALUE=DURATION:PT1H
X-Robots-Tag:noindex
X-PUBLISHED-TTL:PT1H
BEGIN:VTIMEZONE
TZID:Asia/Riyadh
BEGIN:STANDARD
TZOFFSETFROM:+0300
TZOFFSETTO:+0300
TZNAME:+03
DTSTART:20230101T000000
END:STANDARD
END:VTIMEZONE
BEGIN:VEVENT
DTSTART;VALUE=DATE:20260110
DTEND;VALUE=DATE:20260111
DTSTAMP:20260423T015509
CREATED:20250131T142807Z
LAST-MODIFIED:20250131T150221Z
UID:9014-1768003200-1768089599@ma-ij-iq.com
SUMMARY:موعد الاختبارات النهائية
DESCRIPTION:
URL:https://ma-ij-iq.com/event/%d9%85%d9%88%d8%b9%d8%af-%d8%a7%d9%84%d8%a7%d8%ae%d8%aa%d8%a8%d8%a7%d8%b1%d8%a7%d8%aa-%d8%a7%d9%84%d9%86%d9%87%d8%a7%d8%a6%d9%8a%d8%a9/
CATEGORIES:برنامج تأهيل المعلمات
END:VEVENT
BEGIN:VEVENT
DTSTART;VALUE=DATE:20251006
DTEND;VALUE=DATE:20251007
DTSTAMP:20260423T015509
CREATED:20250131T142752Z
LAST-MODIFIED:20250131T150322Z
UID:9012-1759708800-1759795199@ma-ij-iq.com
SUMMARY:اجازة الفصل الدراسى الأول
DESCRIPTION:
URL:https://ma-ij-iq.com/event/%d8%a7%d8%ac%d8%a7%d8%b2%d8%a9-%d8%a7%d9%84%d9%81%d8%b5%d9%84-%d8%a7%d9%84%d8%af%d8%b1%d8%a7%d8%b3%d9%89-%d8%a7%d9%84%d8%a3%d9%88%d9%84-2/
CATEGORIES:برنامج تأهيل المعلمات
END:VEVENT
BEGIN:VEVENT
DTSTART;VALUE=DATE:20250719
DTEND;VALUE=DATE:20250720
DTSTAMP:20260423T015509
CREATED:20250124T185449Z
LAST-MODIFIED:20250124T190419Z
UID:8963-1752883200-1752969599@ma-ij-iq.com
SUMMARY:بدء الدراسة للعام 1447هـ
DESCRIPTION:
URL:https://ma-ij-iq.com/event/%d8%a8%d8%af%d8%a1-%d8%a7%d9%84%d8%af%d8%b1%d8%a7%d8%b3%d8%a9-%d9%84%d9%84%d8%b9%d8%a7%d9%85-1447%d9%87%d9%80/
CATEGORIES:التقويم العام
END:VEVENT
BEGIN:VEVENT
DTSTART;VALUE=DATE:20250708
DTEND;VALUE=DATE:20250709
DTSTAMP:20260423T015509
CREATED:20250131T142751Z
LAST-MODIFIED:20250131T145152Z
UID:9010-1751932800-1752019199@ma-ij-iq.com
SUMMARY:بدء الدراسة للعام الدراسى 1447
DESCRIPTION:
URL:https://ma-ij-iq.com/event/%d8%a8%d8%af%d8%a1-%d8%a7%d9%84%d8%af%d8%b1%d8%a7%d8%b3%d8%a9-%d9%84%d9%84%d8%b9%d8%a7%d9%85-%d8%a7%d9%84%d8%af%d8%b1%d8%a7%d8%b3%d9%89-1447/
CATEGORIES:برنامج تأهيل المعلمات
END:VEVENT
BEGIN:VEVENT
DTSTART;VALUE=DATE:20250702
DTEND;VALUE=DATE:20250703
DTSTAMP:20260423T015509
CREATED:20250124T185447Z
LAST-MODIFIED:20250124T191514Z
UID:8962-1751414400-1751500799@ma-ij-iq.com
SUMMARY:اختبارات القبول فى دورات العام الدراسى 1447هـ
DESCRIPTION:
URL:https://ma-ij-iq.com/event/%d8%a7%d8%ae%d8%aa%d8%a8%d8%a7%d8%b1%d8%a7%d8%aa-%d8%a7%d9%84%d9%82%d8%a8%d9%88%d9%84-%d9%81%d9%89-%d8%af%d9%88%d8%b1%d8%a7%d8%aa-%d8%a7%d9%84%d8%b9%d8%a7%d9%85-%d8%a7%d9%84%d8%af%d8%b1%d8%a7%d8%b3-2/
CATEGORIES:التقويم العام
END:VEVENT
BEGIN:VEVENT
DTSTART;VALUE=DATE:20250702
DTEND;VALUE=DATE:20250703
DTSTAMP:20260423T015509
CREATED:20250124T173612Z
LAST-MODIFIED:20250124T190205Z
UID:8938-1751414400-1751500799@ma-ij-iq.com
SUMMARY:الإعلان عن الدورات الرمضانية 1446هـ
DESCRIPTION:
URL:https://ma-ij-iq.com/event/%d8%a7%d9%84%d8%a5%d8%b9%d9%84%d8%a7%d9%86-%d8%b9%d9%86-%d8%a7%d9%84%d8%af%d9%88%d8%b1%d8%a7%d8%aa-%d8%a7%d9%84%d8%b1%d9%85%d8%b6%d8%a7%d9%86%d9%8a%d8%a9-1446%d9%87%d9%80/
CATEGORIES:التقويم العام
END:VEVENT
BEGIN:VEVENT
DTSTART;VALUE=DATE:20250626
DTEND;VALUE=DATE:20250627
DTSTAMP:20260423T015509
CREATED:20250131T142752Z
LAST-MODIFIED:20250131T144855Z
UID:9011-1750896000-1750982399@ma-ij-iq.com
SUMMARY:آخر موعد لتقديم طلبات التأجيل
DESCRIPTION:
URL:https://ma-ij-iq.com/event/%d8%a2%d8%ae%d8%b1-%d9%85%d9%88%d8%b9%d8%af-%d9%84%d8%aa%d9%82%d8%af%d9%8a%d9%85-%d8%b7%d9%84%d8%a8%d8%a7%d8%aa-%d8%a7%d9%84%d8%aa%d8%a3%d8%ac%d9%8a%d9%84/
CATEGORIES:برنامج تأهيل المعلمات
END:VEVENT
BEGIN:VEVENT
DTSTART;VALUE=DATE:20250618
DTEND;VALUE=DATE:20250619
DTSTAMP:20260423T015509
CREATED:20250124T185447Z
LAST-MODIFIED:20250124T190714Z
UID:8961-1750204800-1750291199@ma-ij-iq.com
SUMMARY:بدء الانضمام لدورات العام الدراسى 1447هـ
DESCRIPTION:
URL:https://ma-ij-iq.com/event/%d8%a8%d8%af%d8%a1-%d8%a7%d9%84%d8%a7%d9%86%d8%b6%d9%85%d8%a7%d9%85-%d9%84%d8%af%d9%88%d8%b1%d8%a7%d8%aa-%d8%a7%d9%84%d8%b9%d8%a7%d9%85-%d8%a7%d9%84%d8%af%d8%b1%d8%a7%d8%b3%d9%89-1447%d9%87%d9%80/
CATEGORIES:التقويم العام
END:VEVENT
BEGIN:VEVENT
DTSTART;VALUE=DATE:20250609
DTEND;VALUE=DATE:20250610
DTSTAMP:20260423T015509
CREATED:20250131T142751Z
LAST-MODIFIED:20250131T145739Z
UID:9009-1749427200-1749513599@ma-ij-iq.com
SUMMARY:بدء اختبارات القبول فى الميزان والبناء _تأهيل 2
DESCRIPTION:
URL:https://ma-ij-iq.com/event/%d8%a8%d8%af%d8%a1-%d8%a7%d8%ae%d8%aa%d8%a8%d8%a7%d8%b1%d8%a7%d8%aa-%d8%a7%d9%84%d9%82%d8%a8%d9%88%d9%84-%d9%81%d9%89-%d8%a7%d9%84%d9%85%d9%8a%d8%b2%d8%a7%d9%86-%d9%88%d8%a7%d9%84%d8%a8%d9%86%d8%a7/
CATEGORIES:برنامج تأهيل المعلمات
END:VEVENT
BEGIN:VEVENT
DTSTART;VALUE=DATE:20250519
DTEND;VALUE=DATE:20250520
DTSTAMP:20260423T015509
CREATED:20250124T185447Z
LAST-MODIFIED:20250124T190642Z
UID:8960-1747612800-1747699199@ma-ij-iq.com
SUMMARY:انتهاء فترة التسجيل في برامج تأهيل المعلمات للعام الدراسى 1447هـ
DESCRIPTION:
URL:https://ma-ij-iq.com/event/%d8%a7%d9%86%d8%aa%d9%87%d8%a7%d8%a1-%d9%81%d8%aa%d8%b1%d8%a9-%d8%a7%d9%84%d8%aa%d8%b3%d8%ac%d9%8a%d9%84-%d9%81%d9%8a-%d8%a8%d8%b1%d8%a7%d9%85%d8%ac-%d8%aa%d8%a3%d9%87%d9%8a%d9%84-%d8%a7%d9%84%d9%85/
CATEGORIES:التقويم العام
END:VEVENT
BEGIN:VEVENT
DTSTART;VALUE=DATE:20250518
DTEND;VALUE=DATE:20250519
DTSTAMP:20260423T015509
CREATED:20250131T142807Z
LAST-MODIFIED:20250131T145938Z
UID:9013-1747526400-1747612799@ma-ij-iq.com
SUMMARY:بداية الفصل الدراسى الثانى
DESCRIPTION:
URL:https://ma-ij-iq.com/event/%d8%a8%d8%af%d8%a7%d9%8a%d8%a9-%d8%a7%d9%84%d9%81%d8%b5%d9%84-%d8%a7%d9%84%d8%af%d8%b1%d8%a7%d8%b3%d9%89-%d8%a7%d9%84%d8%ab%d8%a7%d9%86%d9%89-2/
CATEGORIES:برنامج تأهيل المعلمات
END:VEVENT
BEGIN:VEVENT
DTSTART;VALUE=DATE:20250512
DTEND;VALUE=DATE:20250513
DTSTAMP:20260423T015509
CREATED:20250131T142751Z
LAST-MODIFIED:20250131T145647Z
UID:9008-1747008000-1747094399@ma-ij-iq.com
SUMMARY:بدء اختبارات قبول برامج التأهيل _1
DESCRIPTION:
URL:https://ma-ij-iq.com/event/%d8%a8%d8%af%d8%a1-%d8%a7%d8%ae%d8%aa%d8%a8%d8%a7%d8%b1%d8%a7%d8%aa-%d9%82%d8%a8%d9%88%d9%84-%d8%a8%d8%b1%d8%a7%d9%85%d8%ac-%d8%a7%d9%84%d8%aa%d8%a3%d9%87%d9%8a%d9%84-_1/
CATEGORIES:برنامج تأهيل المعلمات
END:VEVENT
BEGIN:VEVENT
DTSTART;VALUE=DATE:20250508
DTEND;VALUE=DATE:20250509
DTSTAMP:20260423T015509
CREATED:20250124T185446Z
LAST-MODIFIED:20250124T192848Z
UID:8959-1746662400-1746748799@ma-ij-iq.com
SUMMARY:فتح باب التسجيل فى برامج تأهيل المعلمات للعام الدراسى 1447هـ
DESCRIPTION:
URL:https://ma-ij-iq.com/event/%d9%81%d8%aa%d8%ad-%d8%a8%d8%a7%d8%a8-%d8%a7%d9%84%d8%aa%d8%b3%d8%ac%d9%8a%d9%84-%d9%81%d9%89-%d8%a8%d8%b1%d8%a7%d9%85%d8%ac-%d8%aa%d8%a3%d9%87%d9%8a%d9%84-%d8%a7%d9%84%d9%85%d8%b9%d9%84%d9%85%d8%a7-2/
CATEGORIES:التقويم العام
END:VEVENT
BEGIN:VEVENT
DTSTART;VALUE=DATE:20250505
DTEND;VALUE=DATE:20250506
DTSTAMP:20260423T015509
CREATED:20250131T142748Z
LAST-MODIFIED:20250131T145620Z
UID:9007-1746403200-1746489599@ma-ij-iq.com
SUMMARY:انتهاء فترة التسجيل
DESCRIPTION:
URL:https://ma-ij-iq.com/event/%d8%a7%d9%86%d8%aa%d9%87%d8%a7%d8%a1-%d9%81%d8%aa%d8%b1%d8%a9-%d8%a7%d9%84%d8%aa%d8%b3%d8%ac%d9%8a%d9%84/
CATEGORIES:برنامج تأهيل المعلمات
END:VEVENT
BEGIN:VEVENT
DTSTART;VALUE=DATE:20250501
DTEND;VALUE=DATE:20250502
DTSTAMP:20260423T015509
CREATED:20250124T185446Z
LAST-MODIFIED:20250124T191220Z
UID:8958-1746057600-1746143999@ma-ij-iq.com
SUMMARY:الاعلان عن برامج تأهيل المعلمات للعام الدراسى 1447هـ
DESCRIPTION:
URL:https://ma-ij-iq.com/event/%d8%a7%d9%84%d8%a7%d8%b9%d9%84%d8%a7%d9%86-%d8%b9%d9%86-%d8%a8%d8%b1%d8%a7%d9%85%d8%ac-%d8%aa%d8%a3%d9%87%d9%8a%d9%84-%d8%a7%d9%84%d9%85%d8%b9%d9%84%d9%85%d8%a7%d8%aa-%d9%84%d9%84%d8%b9%d8%a7%d9%85/
CATEGORIES:التقويم العام
END:VEVENT
BEGIN:VEVENT
DTSTART;VALUE=DATE:20250425
DTEND;VALUE=DATE:20250426
DTSTAMP:20260423T015509
CREATED:20250131T142748Z
LAST-MODIFIED:20250131T145403Z
UID:9005-1745539200-1745625599@ma-ij-iq.com
SUMMARY:الإعلان الرسمي + فتح باب التسجيل
DESCRIPTION:
URL:https://ma-ij-iq.com/event/%d8%a7%d9%84%d8%a5%d8%b9%d9%84%d8%a7%d9%86-%d8%a7%d9%84%d8%b1%d8%b3%d9%85%d9%8a-%d9%81%d8%aa%d8%ad-%d8%a8%d8%a7%d8%a8-%d8%a7%d9%84%d8%aa%d8%b3%d8%ac%d9%8a%d9%84/
CATEGORIES:برنامج تأهيل المعلمات
END:VEVENT
BEGIN:VEVENT
DTSTART;VALUE=DATE:20250425
DTEND;VALUE=DATE:20250426
DTSTAMP:20260423T015509
CREATED:20250131T142748Z
LAST-MODIFIED:20250131T145440Z
UID:9006-1745539200-1745625599@ma-ij-iq.com
SUMMARY:خطوات التسجيل
DESCRIPTION:
URL:https://ma-ij-iq.com/event/%d8%ae%d8%b7%d9%88%d8%a7%d8%aa-%d8%a7%d9%84%d8%aa%d8%b3%d8%ac%d9%8a%d9%84/
CATEGORIES:برنامج تأهيل المعلمات
END:VEVENT
BEGIN:VEVENT
DTSTART;VALUE=DATE:20250421
DTEND;VALUE=DATE:20250422
DTSTAMP:20260423T015509
CREATED:20250131T142747Z
LAST-MODIFIED:20250131T145331Z
UID:9004-1745193600-1745279999@ma-ij-iq.com
SUMMARY:موعد التسجيل
DESCRIPTION:
URL:https://ma-ij-iq.com/event/%d9%85%d9%88%d8%b9%d8%af-%d8%a7%d9%84%d8%aa%d8%b3%d8%ac%d9%8a%d9%84/
CATEGORIES:برنامج تأهيل المعلمات
END:VEVENT
BEGIN:VEVENT
DTSTART;VALUE=DATE:20250418
DTEND;VALUE=DATE:20250419
DTSTAMP:20260423T015509
CREATED:20250131T142747Z
LAST-MODIFIED:20250131T145239Z
UID:9003-1744934400-1745020799@ma-ij-iq.com
SUMMARY:الاعلان التعريفى
DESCRIPTION:
URL:https://ma-ij-iq.com/event/%d8%a7%d9%84%d8%a7%d8%b9%d9%84%d8%a7%d9%86-%d8%a7%d9%84%d8%aa%d8%b9%d8%b1%d9%8a%d9%81%d9%89/
CATEGORIES:برنامج تأهيل المعلمات
END:VEVENT
BEGIN:VEVENT
DTSTART;VALUE=DATE:20250305
DTEND;VALUE=DATE:20250306
DTSTAMP:20260423T015509
CREATED:20250124T173613Z
LAST-MODIFIED:20250124T192821Z
UID:8939-1741132800-1741219199@ma-ij-iq.com
SUMMARY:الإعلان عن الدورات الصيفية 1446هـ
DESCRIPTION:
URL:https://ma-ij-iq.com/event/%d8%a7%d9%84%d8%a5%d8%b9%d9%84%d8%a7%d9%86-%d8%b9%d9%86-%d9%84%d8%af%d9%88%d8%b1%d8%a7%d8%aa-%d8%a7%d9%84%d8%b5%d9%8a%d9%81%d9%8a%d8%a9-1446%d9%87%d9%80/
CATEGORIES:التقويم العام
END:VEVENT
BEGIN:VEVENT
DTSTART;VALUE=DATE:20250208
DTEND;VALUE=DATE:20250209
DTSTAMP:20260423T015509
CREATED:20250124T185449Z
LAST-MODIFIED:20250124T191722Z
UID:8964-1738972800-1739059199@ma-ij-iq.com
SUMMARY:آخر موعد للتسجيل فى دورات العام الدراسى 1447هـ
DESCRIPTION:
URL:https://ma-ij-iq.com/event/%d8%a2%d8%ae%d8%b1-%d9%85%d9%88%d8%b9%d8%af-%d9%84%d9%84%d8%aa%d8%b3%d8%ac%d9%8a%d9%84-%d9%81%d9%89-%d8%af%d9%88%d8%b1%d8%a7%d8%aa-%d8%a7%d9%84%d8%b9%d8%a7%d9%85-%d8%a7%d9%84%d8%af%d8%b1%d8%a7%d8%b3/
CATEGORIES:التقويم العام
END:VEVENT
BEGIN:VEVENT
DTSTART;VALUE=DATE:20250125
DTEND;VALUE=DATE:20250126
DTSTAMP:20260423T015509
CREATED:20250124T185450Z
LAST-MODIFIED:20250124T190339Z
UID:8967-1737763200-1737849599@ma-ij-iq.com
SUMMARY:الاختبارات النهائية للعام الدراسي 1446هـ
DESCRIPTION:
URL:https://ma-ij-iq.com/event/%d8%a7%d9%84%d8%a7%d8%ae%d8%aa%d8%a8%d8%a7%d8%b1%d8%a7%d8%aa-%d8%a7%d9%84%d9%86%d9%87%d8%a7%d8%a6%d9%8a%d8%a9-%d9%84%d9%84%d8%b9%d8%a7%d9%85-%d8%a7%d9%84%d8%af%d8%b1%d8%a7%d8%b3%d9%8a-1446%d9%87%d9%80/
CATEGORIES:التقويم العام
END:VEVENT
BEGIN:VEVENT
DTSTART;VALUE=DATE:20241102
DTEND;VALUE=DATE:20241103
DTSTAMP:20260423T015509
CREATED:20250124T185450Z
LAST-MODIFIED:20250124T190920Z
UID:8966-1730505600-1730591999@ma-ij-iq.com
SUMMARY:بداية الفصل الدراسى الثانى 1446هـ
DESCRIPTION:
URL:https://ma-ij-iq.com/event/%d8%a8%d8%af%d8%a7%d9%8a%d8%a9-%d8%a7%d9%84%d9%81%d8%b5%d9%84-%d8%a7%d9%84%d8%af%d8%b1%d8%a7%d8%b3%d9%89-%d8%a7%d9%84%d8%ab%d8%a7%d9%86%d9%89-1446%d9%87%d9%80/
CATEGORIES:التقويم العام
END:VEVENT
BEGIN:VEVENT
DTSTART;VALUE=DATE:20241025
DTEND;VALUE=DATE:20241026
DTSTAMP:20260423T015509
CREATED:20250124T185449Z
LAST-MODIFIED:20250124T190527Z
UID:8965-1729814400-1729900799@ma-ij-iq.com
SUMMARY:اجازة الفصل الدراسى الأول 1446هـ
DESCRIPTION:
URL:https://ma-ij-iq.com/event/%d8%a7%d8%ac%d8%a7%d8%b2%d8%a9-%d8%a7%d9%84%d9%81%d8%b5%d9%84-%d8%a7%d9%84%d8%af%d8%b1%d8%a7%d8%b3%d9%89-%d8%a7%d9%84%d8%a3%d9%88%d9%84-1446%d9%87%d9%80/
CATEGORIES:التقويم العام
END:VEVENT
END:VCALENDAR