BEGIN:VCALENDAR
VERSION:2.0
PRODID:-//مهارات الإجازة والإقراء - ECPv6.15.20//NONSGML v1.0//EN
CALSCALE:GREGORIAN
METHOD:PUBLISH
X-WR-CALNAME:مهارات الإجازة والإقراء
X-ORIGINAL-URL:https://ma-ij-iq.com
X-WR-CALDESC:Events for مهارات الإجازة والإقراء
REFRESH-INTERVAL;VALUE=DURATION:PT1H
X-Robots-Tag:noindex
X-PUBLISHED-TTL:PT1H
BEGIN:VTIMEZONE
TZID:Asia/Riyadh
BEGIN:STANDARD
TZOFFSETFROM:+0300
TZOFFSETTO:+0300
TZNAME:+03
DTSTART:20230101T000000
END:STANDARD
END:VTIMEZONE
BEGIN:VEVENT
DTSTART;VALUE=DATE:20250501
DTEND;VALUE=DATE:20250502
DTSTAMP:20260423T032829
CREATED:20250124T185446Z
LAST-MODIFIED:20250124T191220Z
UID:8958-1746057600-1746143999@ma-ij-iq.com
SUMMARY:الاعلان عن برامج تأهيل المعلمات للعام الدراسى 1447هـ
DESCRIPTION:
URL:https://ma-ij-iq.com/event/%d8%a7%d9%84%d8%a7%d8%b9%d9%84%d8%a7%d9%86-%d8%b9%d9%86-%d8%a8%d8%b1%d8%a7%d9%85%d8%ac-%d8%aa%d8%a3%d9%87%d9%8a%d9%84-%d8%a7%d9%84%d9%85%d8%b9%d9%84%d9%85%d8%a7%d8%aa-%d9%84%d9%84%d8%b9%d8%a7%d9%85/
CATEGORIES:التقويم العام
END:VEVENT
BEGIN:VEVENT
DTSTART;VALUE=DATE:20250305
DTEND;VALUE=DATE:20250306
DTSTAMP:20260423T032829
CREATED:20250124T173613Z
LAST-MODIFIED:20250124T192821Z
UID:8939-1741132800-1741219199@ma-ij-iq.com
SUMMARY:الإعلان عن الدورات الصيفية 1446هـ
DESCRIPTION:
URL:https://ma-ij-iq.com/event/%d8%a7%d9%84%d8%a5%d8%b9%d9%84%d8%a7%d9%86-%d8%b9%d9%86-%d9%84%d8%af%d9%88%d8%b1%d8%a7%d8%aa-%d8%a7%d9%84%d8%b5%d9%8a%d9%81%d9%8a%d8%a9-1446%d9%87%d9%80/
CATEGORIES:التقويم العام
END:VEVENT
BEGIN:VEVENT
DTSTART;VALUE=DATE:20250208
DTEND;VALUE=DATE:20250209
DTSTAMP:20260423T032829
CREATED:20250124T185449Z
LAST-MODIFIED:20250124T191722Z
UID:8964-1738972800-1739059199@ma-ij-iq.com
SUMMARY:آخر موعد للتسجيل فى دورات العام الدراسى 1447هـ
DESCRIPTION:
URL:https://ma-ij-iq.com/event/%d8%a2%d8%ae%d8%b1-%d9%85%d9%88%d8%b9%d8%af-%d9%84%d9%84%d8%aa%d8%b3%d8%ac%d9%8a%d9%84-%d9%81%d9%89-%d8%af%d9%88%d8%b1%d8%a7%d8%aa-%d8%a7%d9%84%d8%b9%d8%a7%d9%85-%d8%a7%d9%84%d8%af%d8%b1%d8%a7%d8%b3/
CATEGORIES:التقويم العام
END:VEVENT
BEGIN:VEVENT
DTSTART;VALUE=DATE:20250125
DTEND;VALUE=DATE:20250126
DTSTAMP:20260423T032829
CREATED:20250124T185450Z
LAST-MODIFIED:20250124T190339Z
UID:8967-1737763200-1737849599@ma-ij-iq.com
SUMMARY:الاختبارات النهائية للعام الدراسي 1446هـ
DESCRIPTION:
URL:https://ma-ij-iq.com/event/%d8%a7%d9%84%d8%a7%d8%ae%d8%aa%d8%a8%d8%a7%d8%b1%d8%a7%d8%aa-%d8%a7%d9%84%d9%86%d9%87%d8%a7%d8%a6%d9%8a%d8%a9-%d9%84%d9%84%d8%b9%d8%a7%d9%85-%d8%a7%d9%84%d8%af%d8%b1%d8%a7%d8%b3%d9%8a-1446%d9%87%d9%80/
CATEGORIES:التقويم العام
END:VEVENT
BEGIN:VEVENT
DTSTART;VALUE=DATE:20241102
DTEND;VALUE=DATE:20241103
DTSTAMP:20260423T032829
CREATED:20250124T185450Z
LAST-MODIFIED:20250124T190920Z
UID:8966-1730505600-1730591999@ma-ij-iq.com
SUMMARY:بداية الفصل الدراسى الثانى 1446هـ
DESCRIPTION:
URL:https://ma-ij-iq.com/event/%d8%a8%d8%af%d8%a7%d9%8a%d8%a9-%d8%a7%d9%84%d9%81%d8%b5%d9%84-%d8%a7%d9%84%d8%af%d8%b1%d8%a7%d8%b3%d9%89-%d8%a7%d9%84%d8%ab%d8%a7%d9%86%d9%89-1446%d9%87%d9%80/
CATEGORIES:التقويم العام
END:VEVENT
BEGIN:VEVENT
DTSTART;VALUE=DATE:20241025
DTEND;VALUE=DATE:20241026
DTSTAMP:20260423T032829
CREATED:20250124T185449Z
LAST-MODIFIED:20250124T190527Z
UID:8965-1729814400-1729900799@ma-ij-iq.com
SUMMARY:اجازة الفصل الدراسى الأول 1446هـ
DESCRIPTION:
URL:https://ma-ij-iq.com/event/%d8%a7%d8%ac%d8%a7%d8%b2%d8%a9-%d8%a7%d9%84%d9%81%d8%b5%d9%84-%d8%a7%d9%84%d8%af%d8%b1%d8%a7%d8%b3%d9%89-%d8%a7%d9%84%d8%a3%d9%88%d9%84-1446%d9%87%d9%80/
CATEGORIES:التقويم العام
END:VEVENT
END:VCALENDAR